BEGIN:VCALENDAR
VERSION:2.0
PRODID:-//נתיבי איילון - ECPv4.7.3//NONSGML v1.0//EN
CALSCALE:GREGORIAN
METHOD:PUBLISH
X-WR-CALNAME:נתיבי איילון
X-ORIGINAL-URL:https://www.ayalonhw.co.il
X-WR-CALDESC:Events for נתיבי איילון
BEGIN:VEVENT
DTSTART;TZID=UTC+3:20200604T080000
DTEND;TZID=UTC+3:20200604T170000
DTSTAMP:20210719T162331
CREATED:20200604T090844Z
LAST-MODIFIED:20200604T090844Z
UID:6612-1591257600-1591290000@www.ayalonhw.co.il
SUMMARY:חסימת הכניסה ממחלף ההלכה לנוסעים לכיוון צפון
DESCRIPTION:חסימות כבישים
URL:https://www.ayalonhw.co.il/event/%d7%97%d7%a1%d7%99%d7%9e%d7%aa-%d7%94%d7%9b%d7%a0%d7%99%d7%a1%d7%94-%d7%9e%d7%9e%d7%97%d7%9c%d7%a3-%d7%94%d7%94%d7%9c%d7%9b%d7%94-%d7%9c%d7%a0%d7%95%d7%a1%d7%a2%d7%99%d7%9d-%d7%9c%d7%9b%d7%99%d7%95-8/
END:VEVENT
END:VCALENDAR