BEGIN:VCALENDAR
VERSION:2.0
PRODID:-//נתיבי איילון - ECPv4.7.3//NONSGML v1.0//EN
CALSCALE:GREGORIAN
METHOD:PUBLISH
X-WR-CALNAME:נתיבי איילון
X-ORIGINAL-URL:https://www.ayalonhw.co.il
X-WR-CALDESC:Events for נתיבי איילון
BEGIN:VEVENT
DTSTART;TZID=UTC+3:20210629T080000
DTEND;TZID=UTC+3:20210629T170000
DTSTAMP:20211018T204217
CREATED:20210629T122211Z
LAST-MODIFIED:20210629T122211Z
UID:14021-1624953600-1624986000@www.ayalonhw.co.il
SUMMARY:חסימת מנהרת לה גוורדיה לשני הכיוונים
DESCRIPTION:חסימות כבישים
URL:https://www.ayalonhw.co.il/event/%d7%97%d7%a1%d7%99%d7%9e%d7%aa-%d7%9e%d7%a0%d7%94%d7%a8%d7%aa-%d7%9c%d7%94-%d7%92%d7%95%d7%95%d7%a8%d7%93%d7%99%d7%94-%d7%9c%d7%a9%d7%a0%d7%99-%d7%94%d7%9b%d7%99%d7%95%d7%95%d7%a0%d7%99%d7%9d-19/
END:VEVENT
END:VCALENDAR