BEGIN:VCALENDAR
VERSION:2.0
PRODID:-//נתיבי איילון - ECPv4.7.3//NONSGML v1.0//EN
CALSCALE:GREGORIAN
METHOD:PUBLISH
X-WR-CALNAME:נתיבי איילון
X-ORIGINAL-URL:https://www.ayalonhw.co.il
X-WR-CALDESC:Events for נתיבי איילון
BEGIN:VEVENT
DTSTART;TZID=UTC+3:20210209T080000
DTEND;TZID=UTC+3:20210209T170000
DTSTAMP:20210526T012157
CREATED:20210209T075941Z
LAST-MODIFIED:20210209T075942Z
UID:11294-1612857600-1612890000@www.ayalonhw.co.il
SUMMARY:חסימת רמפת היציאה למחלף ארלוזורוב מאיילון צפון
DESCRIPTION:חסימות כבישים
URL:https://www.ayalonhw.co.il/event/%d7%97%d7%a1%d7%99%d7%9e%d7%aa-%d7%a8%d7%9e%d7%a4%d7%aa-%d7%94%d7%99%d7%a6%d7%99%d7%90%d7%94-%d7%9c%d7%9e%d7%97%d7%9c%d7%a3-%d7%90%d7%a8%d7%9c%d7%95%d7%96%d7%95%d7%a8%d7%95%d7%91-%d7%9e%d7%90%d7%99-7/
END:VEVENT
END:VCALENDAR