BEGIN:VCALENDAR
VERSION:2.0
PRODID:-//נתיבי איילון - ECPv4.7.3//NONSGML v1.0//EN
CALSCALE:GREGORIAN
METHOD:PUBLISH
X-WR-CALNAME:נתיבי איילון
X-ORIGINAL-URL:https://www.ayalonhw.co.il
X-WR-CALDESC:Events for נתיבי איילון
BEGIN:VEVENT
DTSTART;TZID=UTC+3:20200922T080000
DTEND;TZID=UTC+3:20200922T170000
DTSTAMP:20210702T151147
CREATED:20200922T094303Z
LAST-MODIFIED:20200922T094303Z
UID:8066-1600761600-1600794000@www.ayalonhw.co.il
SUMMARY:חסימת רמפת היציאה מאיילון דרום במחלף בשלום
DESCRIPTION:חסימות כבישים
URL:https://www.ayalonhw.co.il/event/%d7%97%d7%a1%d7%99%d7%9e%d7%aa-%d7%a8%d7%9e%d7%a4%d7%aa-%d7%94%d7%99%d7%a6%d7%99%d7%90%d7%94-%d7%9e%d7%90%d7%99%d7%99%d7%9c%d7%95%d7%9f-%d7%93%d7%a8%d7%95%d7%9d-%d7%91%d7%9e%d7%97%d7%9c%d7%a3-%d7%91/
END:VEVENT
END:VCALENDAR