BEGIN:VCALENDAR
VERSION:2.0
PRODID:-//נתיבי איילון - ECPv4.7.3//NONSGML v1.0//EN
CALSCALE:GREGORIAN
METHOD:PUBLISH
X-WR-CALNAME:נתיבי איילון
X-ORIGINAL-URL:https://www.ayalonhw.co.il
X-WR-CALDESC:Events for נתיבי איילון
BEGIN:VEVENT
DTSTART;TZID=UTC+3:20210804T080000
DTEND;TZID=UTC+3:20210804T170000
DTSTAMP:20211010T020021
CREATED:20210804T070723Z
LAST-MODIFIED:20210804T070723Z
UID:14622-1628064000-1628096400@www.ayalonhw.co.il
SUMMARY:חסימת רמפת הכניסה ממחלף לה גוורדיה לאיילון דרום
DESCRIPTION:חסימות כבישים
URL:https://www.ayalonhw.co.il/event/%d7%97%d7%a1%d7%99%d7%9e%d7%aa-%d7%a8%d7%9e%d7%a4%d7%aa-%d7%94%d7%9b%d7%a0%d7%99%d7%a1%d7%94-%d7%9e%d7%9e%d7%97%d7%9c%d7%a3-%d7%9c%d7%94-%d7%92%d7%95%d7%95%d7%a8%d7%93%d7%99%d7%94-%d7%9c%d7%90%d79-23/
END:VEVENT
END:VCALENDAR