BEGIN:VCALENDAR
VERSION:2.0
PRODID:-//נתיבי איילון - ECPv4.7.3//NONSGML v1.0//EN
CALSCALE:GREGORIAN
METHOD:PUBLISH
X-WR-CALNAME:נתיבי איילון
X-ORIGINAL-URL:https://www.ayalonhw.co.il
X-WR-CALDESC:Events for נתיבי איילון
BEGIN:VEVENT
DTSTART;TZID=UTC+3:20210210T080000
DTEND;TZID=UTC+3:20210210T170000
DTSTAMP:20210526T012226
CREATED:20210210T075440Z
LAST-MODIFIED:20210210T075517Z
UID:11302-1612944000-1612976400@www.ayalonhw.co.il
SUMMARY:חסימת רמפת היציאה למחלף ארלוזורוב מאיילון צפון
DESCRIPTION:חסימות כבישים
URL:https://www.ayalonhw.co.il/event/11302/
END:VEVENT
END:VCALENDAR