BEGIN:VCALENDAR
VERSION:2.0
PRODID:-//נתיבי איילון - ECPv4.7.3//NONSGML v1.0//EN
CALSCALE:GREGORIAN
METHOD:PUBLISH
X-WR-CALNAME:נתיבי איילון
X-ORIGINAL-URL:https://www.ayalonhw.co.il
X-WR-CALDESC:Events for נתיבי איילון
BEGIN:VEVENT
DTSTART;TZID=UTC+3:20200701T080000
DTEND;TZID=UTC+3:20200701T170000
DTSTAMP:20210813T001737
CREATED:20200701T090535Z
LAST-MODIFIED:20200701T090535Z
UID:6945-1593590400-1593622800@www.ayalonhw.co.il
SUMMARY:חסימת היציאה במחלף לה גוורדיה לנוסעים לכיוון דרום
DESCRIPTION:חסימות כבישים
URL:https://www.ayalonhw.co.il/event/%d7%97%d7%a1%d7%99%d7%9e%d7%aa-%d7%94%d7%99%d7%a6%d7%99%d7%90%d7%94-%d7%91%d7%9e%d7%97%d7%9c%d7%a3-%d7%9c%d7%94-%d7%92%d7%95%d7%95%d7%a8%d7%93%d7%99%d7%94-%d7%9c%d7%a0%d7%95%d7%a1%d7%a2%d7%99%d7%9d-5/
END:VEVENT
BEGIN:VEVENT
DTSTART;TZID=UTC+3:20200701T080000
DTEND;TZID=UTC+3:20200701T170000
DTSTAMP:20210813T001737
CREATED:20200701T090741Z
LAST-MODIFIED:20200701T090741Z
UID:6950-1593590400-1593622800@www.ayalonhw.co.il
SUMMARY:חסימת הכניסה במחלף ההלכה לנוסעים לכיוון צפון
DESCRIPTION:חסימות כבישים
URL:https://www.ayalonhw.co.il/event/%d7%97%d7%a1%d7%99%d7%9e%d7%aa-%d7%94%d7%9b%d7%a0%d7%99%d7%a1%d7%94-%d7%91%d7%9e%d7%97%d7%9c%d7%a3-%d7%94%d7%94%d7%9c%d7%9b%d7%94-%d7%9c%d7%a0%d7%95%d7%a1%d7%a2%d7%99%d7%9d-%d7%9c%d7%9b%d7%99%d7%95-2/
END:VEVENT
END:VCALENDAR