BEGIN:VCALENDAR
VERSION:2.0
PRODID:-//נתיבי איילון - ECPv4.7.3//NONSGML v1.0//EN
CALSCALE:GREGORIAN
METHOD:PUBLISH
X-WR-CALNAME:נתיבי איילון
X-ORIGINAL-URL:https://www.ayalonhw.co.il
X-WR-CALDESC:Events for נתיבי איילון
BEGIN:VEVENT
DTSTART;TZID=UTC+3:20200929T080000
DTEND;TZID=UTC+3:20200929T170000
DTSTAMP:20210617T224115
CREATED:20200929T073210Z
LAST-MODIFIED:20200929T073210Z
UID:8149-1601366400-1601398800@www.ayalonhw.co.il
SUMMARY:חסימת רמפת היציאה מאיילון דרום למחלף לה גוורדיה
DESCRIPTION:חסימות כבישים
URL:https://www.ayalonhw.co.il/event/%d7%97%d7%a1%d7%99%d7%9e%d7%aa-%d7%a8%d7%9e%d7%a4%d7%aa-%d7%94%d7%99%d7%a6%d7%99%d7%90%d7%94-%d7%9e%d7%90%d7%99%d7%99%d7%9c%d7%95%d7%9f-%d7%93%d7%a8%d7%95%d7%9d-%d7%9c%d7%9e%d7%97%d7%9c%d7%a3-%d7%9c-8/
END:VEVENT
BEGIN:VEVENT
DTSTART;TZID=UTC+3:20200929T080000
DTEND;TZID=UTC+3:20200929T170000
DTSTAMP:20210617T224115
CREATED:20200929T073346Z
LAST-MODIFIED:20200929T073347Z
UID:8153-1601366400-1601398800@www.ayalonhw.co.il
SUMMARY:חסימת רמפת הכניסה לאיילון דרום ממחלף רוקח והאוניברסיטה
DESCRIPTION:חסימות כבישים
URL:https://www.ayalonhw.co.il/event/%d7%97%d7%a1%d7%99%d7%9e%d7%aa-%d7%a8%d7%9e%d7%a4%d7%aa-%d7%94%d7%9b%d7%a0%d7%99%d7%a1%d7%94-%d7%9c%d7%90%d7%99%d7%99%d7%9c%d7%95%d7%9f-%d7%93%d7%a8%d7%95%d7%9d-%d7%9e%d7%9e%d7%97%d7%9c%d7%a3-%d7%a8-4/
END:VEVENT
BEGIN:VEVENT
DTSTART;TZID=UTC+3:20200929T080000
DTEND;TZID=UTC+3:20200929T170000
DTSTAMP:20210617T224115
CREATED:20200929T073559Z
LAST-MODIFIED:20200929T073559Z
UID:8157-1601366400-1601398800@www.ayalonhw.co.il
SUMMARY:חסימת רמפת כניסה לאיילון צפון ממחלף ההלכה 
DESCRIPTION:חסימות כבישים
URL:https://www.ayalonhw.co.il/event/%d7%97%d7%a1%d7%99%d7%9e%d7%aa-%d7%a8%d7%9e%d7%a4%d7%aa-%d7%9b%d7%a0%d7%99%d7%a1%d7%94-%d7%9c%d7%90%d7%99%d7%99%d7%9c%d7%95%d7%9f-%d7%a6%d7%a4%d7%95%d7%9f-%d7%9e%d7%9e%d7%97%d7%9c%d7%a3-%d7%94%d7%94/
END:VEVENT
BEGIN:VEVENT
DTSTART;TZID=UTC+3:20200929T080000
DTEND;TZID=UTC+3:20200929T170000
DTSTAMP:20210617T224115
CREATED:20200929T073703Z
LAST-MODIFIED:20200929T073703Z
UID:8161-1601366400-1601398800@www.ayalonhw.co.il
SUMMARY:חסימת רמפת יציאה מאיילון צפון למחלף רוקח
DESCRIPTION:חסימות כבישים
URL:https://www.ayalonhw.co.il/event/%d7%97%d7%a1%d7%99%d7%9e%d7%aa-%d7%a8%d7%9e%d7%a4%d7%aa-%d7%99%d7%a6%d7%99%d7%90%d7%94-%d7%9e%d7%90%d7%99%d7%99%d7%9c%d7%95%d7%9f-%d7%a6%d7%a4%d7%95%d7%9f-%d7%9c%d7%9e%d7%97%d7%9c%d7%a3-%d7%a8%d7%95/
END:VEVENT
END:VCALENDAR