BEGIN:VCALENDAR
VERSION:2.0
PRODID:-//נתיבי איילון - ECPv4.7.3//NONSGML v1.0//EN
CALSCALE:GREGORIAN
METHOD:PUBLISH
X-WR-CALNAME:נתיבי איילון
X-ORIGINAL-URL:https://www.ayalonhw.co.il
X-WR-CALDESC:Events for נתיבי איילון
BEGIN:VEVENT
DTSTART;TZID=UTC+3:20201129T080000
DTEND;TZID=UTC+3:20201129T170000
DTSTAMP:20210605T144115
CREATED:20201129T132633Z
LAST-MODIFIED:20201129T132633Z
UID:9866-1606636800-1606669200@www.ayalonhw.co.il
SUMMARY:חסימת רמפת היציאה מאיילון דרום למחלף לה גוורדיה
DESCRIPTION:חסימות כבישים
URL:https://www.ayalonhw.co.il/event/%d7%97%d7%a1%d7%99%d7%9e%d7%aa-%d7%a8%d7%9e%d7%a4%d7%aa-%d7%94%d7%99%d7%a6%d7%99%d7%90%d7%94-%d7%9e%d7%90%d7%99%d7%99%d7%9c%d7%95%d7%9f-%d7%93%d7%a8%d7%95%d7%9d-%d7%9c%d7%9e%d7%97%d7%9c%d7%a3-20/
END:VEVENT
BEGIN:VEVENT
DTSTART;TZID=UTC+3:20201129T080000
DTEND;TZID=UTC+3:20201129T170000
DTSTAMP:20210605T144115
CREATED:20201129T132731Z
LAST-MODIFIED:20201129T132732Z
UID:9870-1606636800-1606669200@www.ayalonhw.co.il
SUMMARY:חסימת רמפת הכניסה והיציאה באיילון צפון במחלף השלום
DESCRIPTION:חסימות כבישים
URL:https://www.ayalonhw.co.il/event/%d7%97%d7%a1%d7%99%d7%9e%d7%aa-%d7%a8%d7%9e%d7%a4%d7%aa-%d7%94%d7%9b%d7%a0%d7%99%d7%a1%d7%94-%d7%95%d7%94%d7%99%d7%a6%d7%99%d7%90%d7%94-%d7%91%d7%90%d7%99%d7%99%d7%9c%d7%95%d7%9f-%d7%a6%d7%a4%d7%95/
END:VEVENT
BEGIN:VEVENT
DTSTART;TZID=UTC+3:20201129T080000
DTEND;TZID=UTC+3:20201129T170000
DTSTAMP:20210605T144115
CREATED:20201129T132907Z
LAST-MODIFIED:20201129T132907Z
UID:9874-1606636800-1606669200@www.ayalonhw.co.il
SUMMARY:חסימת רמפת יציאה למחלף קק"ל מאיילון צפון
DESCRIPTION:חסימות כבישים
URL:https://www.ayalonhw.co.il/event/%d7%97%d7%a1%d7%99%d7%9e%d7%aa-%d7%a8%d7%9e%d7%a4%d7%aa-%d7%99%d7%a6%d7%99%d7%90%d7%94-%d7%9c%d7%9e%d7%97%d7%9c%d7%a3-%d7%a7%d7%a7%d7%9c-%d7%9e%d7%90%d7%99%d7%99%d7%9c%d7%95%d7%9f-%d7%a6%d7%a4%d7%95/
END:VEVENT
BEGIN:VEVENT
DTSTART;TZID=UTC+3:20201129T200000
DTEND;TZID=UTC+3:20201129T220000
DTSTAMP:20210605T144115
CREATED:20201129T083913Z
LAST-MODIFIED:20201129T084302Z
UID:9853-1606680000-1606687200@www.ayalonhw.co.il
SUMMARY:מפגש תושבים מקוון - נתיבים מהירים
DESCRIPTION:כללי
URL:https://www.ayalonhw.co.il/event/%d7%9e%d7%a4%d7%92%d7%a9-%d7%aa%d7%95%d7%a9%d7%91%d7%99%d7%9d-%d7%9e%d7%a7%d7%95%d7%95%d7%9f-%d7%a0%d7%aa%d7%99%d7%91%d7%99%d7%9d-%d7%9e%d7%94%d7%99%d7%a8%d7%99%d7%9d-2/
END:VEVENT
END:VCALENDAR