BEGIN:VCALENDAR
VERSION:2.0
PRODID:-//נתיבי איילון - ECPv4.7.3//NONSGML v1.0//EN
CALSCALE:GREGORIAN
METHOD:PUBLISH
X-WR-CALNAME:נתיבי איילון
X-ORIGINAL-URL:https://www.ayalonhw.co.il
X-WR-CALDESC:Events for נתיבי איילון
BEGIN:VEVENT
DTSTART;TZID=UTC+3:20210207T080000
DTEND;TZID=UTC+3:20210207T170000
DTSTAMP:20210519T232503
CREATED:20210207T104530Z
LAST-MODIFIED:20210207T104531Z
UID:11241-1612684800-1612717200@www.ayalonhw.co.il
SUMMARY:חסימת רמפת היציאה למחלף ארלוזורוב מאיילון צפון
DESCRIPTION:חסימות כבישים
URL:https://www.ayalonhw.co.il/event/%d7%97%d7%a1%d7%99%d7%9e%d7%aa-%d7%a8%d7%9e%d7%a4%d7%aa-%d7%94%d7%99%d7%a6%d7%99%d7%90%d7%94-%d7%9c%d7%9e%d7%97%d7%9c%d7%a3-%d7%90%d7%a8%d7%9c%d7%95%d7%96%d7%95%d7%a8%d7%95%d7%91-%d7%9e%d7%90%d7%99-5/
END:VEVENT
BEGIN:VEVENT
DTSTART;TZID=UTC+3:20210207T080000
DTEND;TZID=UTC+3:20210207T170000
DTSTAMP:20210519T232503
CREATED:20210207T113928Z
LAST-MODIFIED:20210207T113928Z
UID:11245-1612684800-1612717200@www.ayalonhw.co.il
SUMMARY:חסימת רמפת הכניסה במחלף ההלכה לאיילון צפון
DESCRIPTION:חסימות כבישים
URL:https://www.ayalonhw.co.il/event/%d7%97%d7%a1%d7%99%d7%9e%d7%aa-%d7%a8%d7%9e%d7%a4%d7%aa-%d7%94%d7%9b%d7%a0%d7%99%d7%a1%d7%94-%d7%91%d7%9e%d7%97%d7%9c%d7%a3-%d7%94%d7%94%d7%9c%d7%9b%d7%94-%d7%9c%d7%90%d7%99%d7%99%d7%9c%d7%95%d7%9f/
END:VEVENT
BEGIN:VEVENT
DTSTART;TZID=UTC+3:20210207T080000
DTEND;TZID=UTC+3:20210207T170000
DTSTAMP:20210519T232503
CREATED:20210207T114113Z
LAST-MODIFIED:20210207T114113Z
UID:11249-1612684800-1612717200@www.ayalonhw.co.il
SUMMARY:חסימת רמפת הכניסה ממחלף לה גוורדיה לאיילון צפון
DESCRIPTION:חסימות כבישים
URL:https://www.ayalonhw.co.il/event/%d7%97%d7%a1%d7%99%d7%9e%d7%aa-%d7%a8%d7%9e%d7%a4%d7%aa-%d7%94%d7%9b%d7%a0%d7%99%d7%a1%d7%94-%d7%9e%d7%9e%d7%97%d7%9c%d7%a3-%d7%9c%d7%94-%d7%92%d7%95%d7%95%d7%a8%d7%93%d7%99%d7%94-%d7%9c%d7%90%d7%99-8/
END:VEVENT
BEGIN:VEVENT
DTSTART;TZID=UTC+3:20210207T080000
DTEND;TZID=UTC+3:20210207T170000
DTSTAMP:20210519T232503
CREATED:20210207T114231Z
LAST-MODIFIED:20210207T114231Z
UID:11253-1612684800-1612717200@www.ayalonhw.co.il
SUMMARY:חסימת רמפת היציאה מאיילון דרום למחלף ההלכה
DESCRIPTION:חסימות כבישים
URL:https://www.ayalonhw.co.il/event/%d7%97%d7%a1%d7%99%d7%9e%d7%aa-%d7%a8%d7%9e%d7%a4%d7%aa-%d7%94%d7%99%d7%a6%d7%99%d7%90%d7%94-%d7%9e%d7%90%d7%99%d7%99%d7%9c%d7%95%d7%9f-%d7%93%d7%a8%d7%95%d7%9d-%d7%9c%d7%9e%d7%97%d7%9c%d7%a3-%d7%94-4/
END:VEVENT
END:VCALENDAR