BEGIN:VCALENDAR
VERSION:2.0
PRODID:-//נתיבי איילון - ECPv4.7.3//NONSGML v1.0//EN
CALSCALE:GREGORIAN
METHOD:PUBLISH
X-WR-CALNAME:נתיבי איילון
X-ORIGINAL-URL:https://www.ayalonhw.co.il
X-WR-CALDESC:Events for נתיבי איילון
BEGIN:VEVENT
DTSTART;TZID=UTC+3:20210504T080000
DTEND;TZID=UTC+3:20210504T170000
DTSTAMP:20210601T221128
CREATED:20210504T083218Z
LAST-MODIFIED:20210504T083219Z
UID:12878-1620115200-1620147600@www.ayalonhw.co.il
SUMMARY:חסימת רמפת הכניסה ממחלף לה גוורדיה לאיילון דרום
DESCRIPTION:חסימות כבישים
URL:https://www.ayalonhw.co.il/event/%d7%97%d7%a1%d7%99%d7%9e%d7%aa-%d7%a8%d7%9e%d7%a4%d7%aa-%d7%94%d7%9b%d7%a0%d7%99%d7%a1%d7%94-%d7%9e%d7%9e%d7%97%d7%9c%d7%a3-%d7%9c%d7%94-%d7%92%d7%95%d7%95%d7%a8%d7%93%d7%99%d7%94-%d7%9c%d7%90%d79-11/
END:VEVENT
BEGIN:VEVENT
DTSTART;TZID=UTC+3:20210504T080000
DTEND;TZID=UTC+3:20210504T170000
DTSTAMP:20210601T221128
CREATED:20210504T083334Z
LAST-MODIFIED:20210504T083334Z
UID:12882-1620115200-1620147600@www.ayalonhw.co.il
SUMMARY:חסימת רמפת היציאה למחלף רוקח מאיילון דרום
DESCRIPTION:חסימות כבישים
URL:https://www.ayalonhw.co.il/event/%d7%97%d7%a1%d7%99%d7%9e%d7%aa-%d7%a8%d7%9e%d7%a4%d7%aa-%d7%94%d7%99%d7%a6%d7%99%d7%90%d7%94-%d7%9c%d7%9e%d7%97%d7%9c%d7%a3-%d7%a8%d7%95%d7%a7%d7%97-%d7%9e%d7%90%d7%99%d7%99%d7%9c%d7%95%d7%9f-%d7%93/
END:VEVENT
BEGIN:VEVENT
DTSTART;TZID=UTC+3:20210504T080000
DTEND;TZID=UTC+3:20210504T170000
DTSTAMP:20210601T221128
CREATED:20210504T083417Z
LAST-MODIFIED:20210504T083418Z
UID:12886-1620115200-1620147600@www.ayalonhw.co.il
SUMMARY:חסימת רמפת היציאה למחלף ארלוזורוב מאיילון צפון
DESCRIPTION:חסימות כבישים
URL:https://www.ayalonhw.co.il/event/%d7%97%d7%a1%d7%99%d7%9e%d7%aa-%d7%a8%d7%9e%d7%a4%d7%aa-%d7%94%d7%99%d7%a6%d7%99%d7%90%d7%94-%d7%9c%d7%9e%d7%97%d7%9c%d7%a3-%d7%90%d7%a8%d7%9c%d7%95%d7%96%d7%95%d7%a8%d7%95%d7%91-%d7%9e%d7%90%d7%99-29/
END:VEVENT
END:VCALENDAR